BEGIN:VCALENDAR
VERSION:2.0
PRODID:-//172.22.3.21//NONSGML kigkonsult.se iCalcreator 2.39.1//
CALSCALE:GREGORIAN
UID:a3517319-836b-4c99-b04c-96efec9751b0
X-WR-TIMEZONE:Europe/Berlin
X-WR-CALNAME:www.datefix.de
X-WR-CALDESC:www.datefix.de Veranstaltungskalender
BEGIN:VTIMEZONE
TZID:Europe/Berlin
BEGIN:STANDARD
TZNAME:CET
DTSTART:20251026T030000
TZOFFSETFROM:+0200
TZOFFSETTO:+0100
RDATE:20261025T030000
END:STANDARD
BEGIN:DAYLIGHT
TZNAME:CEST
DTSTART:20260329T020000
TZOFFSETFROM:+0100
TZOFFSETTO:+0200
RDATE:20270328T020000
END:DAYLIGHT
END:VTIMEZONE
BEGIN:VEVENT
UID:7df02344-6960-4632-acdf-ed2918ec4c34
DTSTAMP:20260424T082944Z
DESCRIPTION:
DTSTART:20260418T200000Z
DTEND:20260418T230000Z
LOCATION:Vereinshaus Huttenwang\, Huttenwang 20\, 87648 Aitrang\,
SUMMARY:VG-Schießen Preisverteilung 2026
END:VEVENT
END:VCALENDAR
