BEGIN:VCALENDAR
VERSION:2.0
PRODID:-//172.22.3.21//NONSGML kigkonsult.se iCalcreator 2.39.1//
CALSCALE:GREGORIAN
UID:bf8d1151-90b2-4e4d-9f1f-af20616dd419
X-WR-TIMEZONE:Europe/Berlin
X-WR-CALNAME:www.datefix.de
X-WR-CALDESC:www.datefix.de Veranstaltungskalender
BEGIN:VTIMEZONE
TZID:Europe/Berlin
BEGIN:STANDARD
TZNAME:CET
DTSTART:20251026T030000
TZOFFSETFROM:+0200
TZOFFSETTO:+0100
RDATE:20261025T030000
END:STANDARD
BEGIN:DAYLIGHT
TZNAME:CEST
DTSTART:20260329T020000
TZOFFSETFROM:+0100
TZOFFSETTO:+0200
RDATE:20270328T020000
END:DAYLIGHT
END:VTIMEZONE
BEGIN:VEVENT
UID:da2b0bbd-0454-453b-a4c4-22f3fd8ec882
DTSTAMP:20260420T032659Z
DESCRIPTION:<p>Die M&auml\;nnerturner des FC&nbsp\;Ebenhofen sammeln Schrot
 t und Alteisen in Form von Eisenteilen aller Art\, Waschmaschinen\, Sp&uum
 l\;lmaschinen\, Trocknern\, landwirtschaftlichen Ger&auml\;ten\, Maschinen
 \, Blechen etc.\, jedoch keine K&uuml\;hlschr&auml\;nke. Bitte achten Sie 
 darauf\, dass alle Ger&auml\;te und Gegenst&auml\;nde frei von &Ouml\;l un
 d Treibstoff sind.</p>\n\n<p>Die Einwohner von Ebenhofen werden gebeten\, 
 das Altmetall&nbsp\;bis 12.00 vor ihrer Garage oder Hofeinfahrt bereit zu 
 stellen. Die Einwohner aus Biessenhofen\, H&ouml\;rmannshofen und Altdorf 
 werden &nbsp\;bei Interesse um telefonische Benachrichtigung gebeten. Tel.
   0175 57 62 645 oder 0151 43 18 2758
DTSTART:20260424T120000Z
DTEND:20260424T170000Z
LOCATION:
SUMMARY:Schrott und Alteisensammlung
END:VEVENT
END:VCALENDAR
